BEGIN:VCALENDAR
VERSION:2.0
PRODID:-//Agua.org.mx - ECPv6.15.16//NONSGML v1.0//EN
CALSCALE:GREGORIAN
METHOD:PUBLISH
X-WR-CALNAME:Agua.org.mx
X-ORIGINAL-URL:https://agua.org.mx
X-WR-CALDESC:Eventos para Agua.org.mx
REFRESH-INTERVAL;VALUE=DURATION:PT1H
X-Robots-Tag:noindex
X-PUBLISHED-TTL:PT1H
BEGIN:VTIMEZONE
TZID:America/Mexico_City
BEGIN:STANDARD
TZOFFSETFROM:-0600
TZOFFSETTO:-0600
TZNAME:CST
DTSTART:20250101T000000
END:STANDARD
END:VTIMEZONE
BEGIN:VTIMEZONE
TZID:America/New_York
BEGIN:DAYLIGHT
TZOFFSETFROM:-0500
TZOFFSETTO:-0400
TZNAME:EDT
DTSTART:20250309T070000
END:DAYLIGHT
BEGIN:STANDARD
TZOFFSETFROM:-0400
TZOFFSETTO:-0500
TZNAME:EST
DTSTART:20251102T060000
END:STANDARD
BEGIN:DAYLIGHT
TZOFFSETFROM:-0500
TZOFFSETTO:-0400
TZNAME:EDT
DTSTART:20260308T070000
END:DAYLIGHT
BEGIN:STANDARD
TZOFFSETFROM:-0400
TZOFFSETTO:-0500
TZNAME:EST
DTSTART:20261101T060000
END:STANDARD
BEGIN:DAYLIGHT
TZOFFSETFROM:-0500
TZOFFSETTO:-0400
TZNAME:EDT
DTSTART:20270314T070000
END:DAYLIGHT
BEGIN:STANDARD
TZOFFSETFROM:-0400
TZOFFSETTO:-0500
TZNAME:EST
DTSTART:20271107T060000
END:STANDARD
END:VTIMEZONE
BEGIN:VEVENT
DTSTART;TZID=America/Mexico_City:20260406T080000
DTEND;TZID=America/Mexico_City:20260422T170000
DTSTAMP:20260422T023004
CREATED:20260407T002315Z
LAST-MODIFIED:20260407T060419Z
UID:233941-1775462400-1776877200@agua.org.mx
SUMMARY:El llanto de las tortugas (Estudios Churubusco)
DESCRIPTION:Estudios Churubusco Azteca te invita a participar en el marco del Día Internacional de la Tierra y en esta coyuntura\, les parece indispensable compartir con ustedes su película EL LLANTO DE LAS TORTUGAS\, la cual estará disponible de forma gratuita en todo el mundo desde hoy hasta el 22 de abril.  \nComo bien han experimentado todas y todos\, no solo a lo largo y ancho del país sino del mundo\, temperaturas y fenómenos climáticos inusuales en lo que va de 2026\, así como el lamentable derrame de hidrocarburos en el Golfo de México ocurrido hace unas semanas\, creen necesario abonar desde su trinchera a la concientización del estado de nuestros mares. \n¡Ayudemos a llegar a la mayor cantidad de personas posibles compartiendo esta publicación o los enlaces a la película!\nVideo: aquí \nYouTube: aquí  \nEl llanto de las tortugas en un largometraje documental dirigido por Jaime Salazar y producido por Victoria Arellano a través de las compañías Jacalito films y Cstudio Churubusco. Para su distribución\, se contó con el apoyo de los estímulos Eficine y Eficaz  a través de fundación Coppel y Caffenio. \nMás información aquí 
URL:https://agua.org.mx/evento/el-llanto-de-las-tortugas-estudios-churubusco/
CATEGORIES:Eventos
ATTACH;FMTTYPE=image/png:https://agua.org.mx/wp-content/uploads/2026/04/Screenshot-2026-04-07-at-12.03.11-a.m.png
END:VEVENT
BEGIN:VEVENT
DTSTART;TZID=America/Mexico_City:20260422T083000
DTEND;TZID=America/Mexico_City:20260422T230000
DTSTAMP:20260422T023004
CREATED:20260418T022516Z
LAST-MODIFIED:20260418T022516Z
UID:234459-1776846600-1776898800@agua.org.mx
SUMMARY:Tejedoras de Agua - Embajada de Suecia
DESCRIPTION:La embajada de Suecia te invita al lanzamiento del pódcast Tejedoras de Agua\, que cuenta la inspiradora historia de Shanni Mora y Rosa Mendoza\, ganadoras del Premio Nacional Juvenil del Agua (PNJA) 2024. 💧✨ \nResidencia Oficial de Suecia – Av. Paseo de las Palmas 1225\n22 de abril\n8:30 a.m. \nModerado por Pamela Cerdeira. \nLes encantará que les acompañes en este evento especial. \nEvento con cupo limitado. Confirmaciones a abigail.sandoval@gov.se \nMás información aquí.
URL:https://agua.org.mx/evento/tejedoras-de-agua-embajada-de-suecia/
LOCATION:residencia oficial de suecia\, Av. Paseo de las Palmas 1225\, ciudad de México\, ciudad de méxico\, 111 30\, Mexico
ATTACH;FMTTYPE=image/jpeg:https://agua.org.mx/wp-content/uploads/2026/04/1776189355324.jpg
ORGANIZER;CN="embajada de suecia":MAILTO:ambassaden.mexico@gov.se
END:VEVENT
BEGIN:VEVENT
DTSTART;TZID=America/Mexico_City:20260422T100000
DTEND;TZID=America/Mexico_City:20260422T170000
DTSTAMP:20260422T023004
CREATED:20260411T021531Z
LAST-MODIFIED:20260421T204744Z
UID:234141-1776852000-1776877200@agua.org.mx
SUMMARY:El Valle del Mezquital nos invita a repensar el futuro del agua (Unesco IMTA)
DESCRIPTION:Cátedra Unesco IMTA te invita a participar en el conversatorio en línea ” El Valle del Mezquital nos invita a repensar el futuro del agua” \n\nTe invita a este conversatorio en línea donde especialistas compartirán perspectivas clave sobre los desafíos que enfrenta la región y las soluciones que hoy se están construyendo.\n\n\nEl agua en el Valle del Mezquital: desafíos que exigen nuevas soluciones\n\n\n\nFecha y Hora:\n\nMiércoles 22 de abril de 2026\n10:00 h\n\n\n\nUn espacio para reflexionar\, cuestionar y entender el papel del agua en el desarrollo sostenible.\n\n\n\nSin costo\n\nRegistro 
URL:https://agua.org.mx/evento/el-valle-del-mezquital-nos-invita-a-repensar-el-futuro-del-agua-unesco-imta/
CATEGORIES:Eventos
ATTACH;FMTTYPE=image/jpeg:https://agua.org.mx/wp-content/uploads/2026/04/670656058_1482539623884870_2031307795733231419_n.jpg
END:VEVENT
BEGIN:VEVENT
DTSTART;TZID=America/Mexico_City:20260422T120000
DTEND;TZID=America/Mexico_City:20260422T133000
DTSTAMP:20260422T023004
CREATED:20260331T195256Z
LAST-MODIFIED:20260331T195256Z
UID:233754-1776859200-1776864600@agua.org.mx
SUMMARY:El intercambio ecológica desigual en México (Facultad de Economía de la UNAM)
DESCRIPTION:La Facultad de Economía de la UNAM\, en el marco del XXVIII Seminario de Economía de los Recursos Naturales y Desarrollo Sustentable\, llevará acabo la sesión “El intercambio ecológico desigual del agua en México”. \nParticipan Alberto Gabino Martínez Hernández\, Carlos Alberto Francisco Cruz y Karina Caballero Güendulain. \nFecha:  \nMiércoles 22 de abril del 2026 \nHora:  \n12:00 a 13:30hrs. \nLugar:  \nSalón 2027\, Edificio de Posgrado de la Facultad de Economía – UNAM \nTransmisión en Zoom  \nMás información aquí.
URL:https://agua.org.mx/evento/el-intercambio-ecologica-desigual-en-mexico-facultad-de-economia-de-la-unam/
LOCATION:Facultad de Economía de la Universidad Nacional Autónoma de México\, Cto. Escolar\, C.U.\, CDMX\, Coyoacán\, 04510\, Mexico
ATTACH;FMTTYPE=image/jpeg:https://agua.org.mx/wp-content/uploads/2026/03/WhatsApp-Image-2026-03-31-at-13.07.18.jpeg
END:VEVENT
BEGIN:VEVENT
DTSTART;TZID=America/Mexico_City:20260422T130000
DTEND;TZID=America/Mexico_City:20260422T150000
DTSTAMP:20260422T023004
CREATED:20260120T050856Z
LAST-MODIFIED:20260120T050856Z
UID:230854-1776862800-1776870000@agua.org.mx
SUMMARY:Día internacional de la Madre Tierra (SEMARNAT)
DESCRIPTION:Te invitamos a dialogar sobre nuestra relación con la Madre Tierra y la urgencia de protegerla. Un encuentro para fortalecer la conciencia ambiental y el compromiso con el planeta. \nFecha y hora: \n\n22 de abril de 2026\nDe 13:00 a 15:00 horas (CDMX)\n\nModalidad a distancia: Youtube SEMARNAT
URL:https://agua.org.mx/evento/dia-internacional-de-la-madre-tierra-semarnat/
ATTACH;FMTTYPE=image/png:https://agua.org.mx/wp-content/uploads/2026/01/Screenshot-2026-01-19-at-10.20.51-p.m-5.png
END:VEVENT
BEGIN:VEVENT
DTSTART;TZID=America/New_York:20260422T153000
DTEND;TZID=America/New_York:20260422T170000
DTSTAMP:20260422T023004
CREATED:20260417T215508Z
LAST-MODIFIED:20260417T215508Z
UID:234372-1776871800-1776877200@agua.org.mx
SUMMARY:Conversatorio “Acceso a la justicia ambiental en América Latina y el Caribe” (Sociedad Peruana de Derecho Ambiental)
DESCRIPTION:La Sociedad Peruana Derecho Ambiental  y  el Centro de Políticas Públicas para el Socioalismo te invitan al evento paralelo de la COP4 de Escazú sobre justicia ambiental en América Latina y el Caribe. \nEn el marco de la Cuarta Conferencia de las Partes del Acuerdo de Escazú\, se llevará a cabo el conversatorio “Acceso a la justicia ambiental en América Latina y el Caribe”\, en el que expertas y expertos presentarán los hallazgos\, desafíos y oportunidades identificadas en 7 países de la región para la ratificación e implementación del Acuerdo de Escazú. \nFecha: \n22 de abril \n Hora: \n3:30 p.m. a 5:00 p.m. Peru Time (UTC-5) \nRegistro: \nRegístrate aquí.\nTransmisión en vivo por redes de la SPDA
URL:https://agua.org.mx/evento/conversatorio-acceso-a-la-justicia-ambiental-en-america-latina-y-el-caribe-sociedad-peruana-de-derecho-ambiental/
ATTACH;FMTTYPE=image/png:https://agua.org.mx/wp-content/uploads/2026/04/Captura-de-pantalla-2026-04-16-a-las-0.28.08.png
END:VEVENT
BEGIN:VEVENT
DTSTART;TZID=America/Mexico_City:20260422T170000
DTEND;TZID=America/Mexico_City:20260422T190000
DTSTAMP:20260422T023004
CREATED:20260417T215543Z
LAST-MODIFIED:20260417T215543Z
UID:234368-1776877200-1776884400@agua.org.mx
SUMMARY:Seminario de Ecologías Críticas y Ecotopías (Laboratorio de Incidencia en Sistemas Socioecológicos Urbanos)
DESCRIPTION:El Laboratorio de Incidencia en Sistemas Socioecológicos Urbanos te invita al Seminario de Ecologías Críticas y Ecotopías \nEste día de la tierra nos sumergiremos en el Río Samaná para conocer los peces bocachicos y la gente pesquera de Puerto Garza en Colombia  con el Dr. Juan David Arias-Henao. \n“𝐏𝐞𝐧𝐬𝐚𝐫 𝐜𝐨𝐧 𝐥𝐨𝐬 𝐩𝐞𝐜𝐞𝐬” nos invita a reflexionar las crisis y sus soluciones en cardumen: aprender de los ríos\, del agua y de los peces como metáfora y práctica de lo colectivo. \nFecha: \nMiércoles 22 de abril \nHora: \n17:00 hrs a 19:00 hrs \nRegistro: \nRegístrate aquí  \nSesión por Zoom y Facebook Live \n \nMas eventos en:
URL:https://agua.org.mx/evento/seminario-de-ecologias-criticas-y-ecotopias-laboratorio-de-incidencia-en-sistemas-socioecologicos-urbanos/
ATTACH;FMTTYPE=image/png:https://agua.org.mx/wp-content/uploads/2026/04/Captura-de-pantalla-2026-04-16-a-las-0.02.38.png
END:VEVENT
BEGIN:VEVENT
DTSTART;TZID=America/Mexico_City:20260422T180000
DTEND;TZID=America/Mexico_City:20260422T190000
DTSTAMP:20260422T023004
CREATED:20260414T175948Z
LAST-MODIFIED:20260414T201540Z
UID:234222-1776880800-1776884400@agua.org.mx
SUMMARY:El papel de las comunidades en la salud de los ecosistemas (Alianza Revive el Río Colorado y FCEA)
DESCRIPTION:La Alianza Revive el Río Colorado en colaboración con el Fondo para la Comunicación y la Educación Ambiental (FCEA) te invitan a conmemorar este  Día de la Tierra con una conversación necesaria sobre el papel de las personas en la salud de nuestros ríos y territorios. \nExperiencias reales\, aprendizajes y caminos que ya están funcionando. \nAcompáñanos a escuchar a quienes están haciendo que las cosas cambien desde lo local. \nMiércoles 22 de abril6:00 pm (hora centro) \nFacebook Live en Portal del agua
URL:https://agua.org.mx/evento/el-papel-de-las-comunidades-en-la-salud-de-los-ecosistemas-alianza-revive-el-rio-colorado-y-fcea/
ATTACH;FMTTYPE=image/jpeg:https://agua.org.mx/wp-content/uploads/2026/04/la-salud.jpeg
ORGANIZER;CN="Alianza Revive el R%C3%ADo Colorado":MAILTO:lbairstow@redfordcenter.org
END:VEVENT
END:VCALENDAR