BEGIN:VCALENDAR
VERSION:2.0
PRODID:-//Agua.org.mx - ECPv6.15.16//NONSGML v1.0//EN
CALSCALE:GREGORIAN
METHOD:PUBLISH
X-WR-CALNAME:Agua.org.mx
X-ORIGINAL-URL:https://agua.org.mx
X-WR-CALDESC:Eventos para Agua.org.mx
REFRESH-INTERVAL;VALUE=DURATION:PT1H
X-Robots-Tag:noindex
X-PUBLISHED-TTL:PT1H
BEGIN:VTIMEZONE
TZID:America/Mexico_City
BEGIN:STANDARD
TZOFFSETFROM:-0600
TZOFFSETTO:-0600
TZNAME:CST
DTSTART:20250101T000000
END:STANDARD
END:VTIMEZONE
BEGIN:VEVENT
DTSTART;TZID=America/Mexico_City:20260423T080000
DTEND;TZID=America/Mexico_City:20260423T170000
DTSTAMP:20260423T070209
CREATED:20260331T022606Z
LAST-MODIFIED:20260331T022606Z
UID:233704-1776931200-1776963600@agua.org.mx
SUMMARY:Perspectivas indígenas sobre la sostenibilidad del agua en América Latina: gobernanza\, gestión\, resiliencia e inclusión (IWA)
DESCRIPTION:International Water Associatio (IWA)\, te invita a participar en el seminario web «Perspectivas indígenas sobre la sostenibilidad del agua en América Latina: gobernanza\, gestión\, resiliencia e inclusión» está previsto para el 23 de abril y estará disponible en inglés y español. \n\n\nFecha: \n\n23 de Abril \n\nEl agua es más que un recurso: es vida\, cultura e identidad. En toda América Latina\, las comunidades indígenas han protegido el agua durante generaciones mediante prácticas basadas en el equilibrio\, el respeto y la resiliencia. Sus conocimientos no solo abordan los retos actuales\, sino que ofrecen vías sólidas para alcanzar el ODS 6 y promover el desarrollo sostenible en su conjunto. \n\nDe la conservación a la distribución equitativa\nDe la resiliencia climática a la gestión comunitaria\nDe la tecnología a la tradición\n\nLos conocimientos indígenas sobre el agua nos recuerdan que la sostenibilidad no es solo técnica\, sino que es profundamente social\, cultural y espiritual. \nEntonces\, ¿cómo avanzamos? Escuchando. Colaborando. Co-creando soluciones que integren la sabiduría tradicional con los sistemas modernos de gestión del agua.Únase a su próximo seminario web\, en el que participarán voces indígenas de toda América Latina: Tania Eulalia Martinez-Cruz\, Leticia Tituaña Picuasi\, Taita Juan Bautista Agreda (#OIOC – Organization for Indigenous Outreach & Conservation) y Alan Rodrigo Calle Pacaje compartirán sus experiencias\, retos y visiones para un futuro hídrico más inclusivo y sostenible.Repensemos el agua\, juntos. Inscríbase aquí
URL:https://agua.org.mx/evento/perspectivas-indigenas-sobre-la-sostenibilidad-del-agua-en-america-latina-gobernanza-gestion-resiliencia-e-inclusion-iwa/
CATEGORIES:Eventos
ATTACH;FMTTYPE=image/webp:https://agua.org.mx/wp-content/uploads/2026/03/conagua-detecta-200-pozos-ilegales-en-puebla-para-venta-de-agua-en-pipas_afabffb8-93e7-442e-afad-3487acc63ed3_medialjnimgndimagefullsize.webp
END:VEVENT
BEGIN:VEVENT
DTSTART;TZID=America/Mexico_City:20260423T080000
DTEND;TZID=America/Mexico_City:20260424T170000
DTSTAMP:20260423T070209
CREATED:20260320T205833Z
LAST-MODIFIED:20260320T205833Z
UID:233407-1776931200-1777050000@agua.org.mx
SUMMARY:Encuentro Nacional por la Cultura del Agua 2026 (ENXCA) – Tlaxcala
DESCRIPTION:Tlaxcala será sede del Encuentro Nacional por la Cultura del Agua 2026 (ENXCA)\, un espacio que reunirá a especialistas\, instituciones y actores clave para fortalecer la cultura del agua en México. \nDurante el evento se llevarán a cabo conferencias\, paneles y espacios de diálogo\, enfocados en promover el uso responsable del agua\, el intercambio de experiencias y la construcción de estrategias para una gestión sostenible del recurso hídrico. \nEste encuentro busca impulsar acciones que fortalezcan la participación social y la cultura del agua a nivel nacional. \nFechas:  \n23 y 24 de abril de 2026 \nLugar: \nParque Ecológico Federico Silva\, San Hipólito Chimalpa\, Tlaxcala \nRegístrate aquí!
URL:https://agua.org.mx/evento/encuentro-nacional-por-la-cultura-del-agua-2026-enxca-tlaxcala/
LOCATION:Parque Ecológico Federico Silva\, San Hipólito Chimalpa\, Tlaxcala
ATTACH;FMTTYPE=image/jpeg:https://agua.org.mx/wp-content/uploads/2026/03/evento-1-.jpeg
END:VEVENT
BEGIN:VEVENT
DTSTART;TZID=America/Mexico_City:20260423T100000
DTEND;TZID=America/Mexico_City:20260423T120000
DTSTAMP:20260423T070209
CREATED:20260416T064351Z
LAST-MODIFIED:20260422T201953Z
UID:234380-1776938400-1776945600@agua.org.mx
SUMMARY:Seminario: Restauración ecohidrológica de ríos (SUSMAI\, ENCiT)
DESCRIPTION:El Seminario Universitario de Sociedad\, Medio Ambiente e Instituciones (SUSMAI) en colaboración con la Escuela Nacional de Ciencias de la Tierra (ENCiT) te invita a la cuarta sesión de la serie de seminarios sobre restauración ecohidrológica de ríos. En esta sesión se abordarán diferentes enfoques complementarios de restauración en ríos\, con la participación de expertos que compartirán experiencias y retos en la gestión de ecosistemas acuáticos. \n• Fecha: 23 de abril de 2026• Hora: 10:00 a 12:00 hrs (CDMX) \nModalidad: A distancia (transmisión en vivo por YouTube).
URL:https://agua.org.mx/evento/seminario-restauracion-ecohidrologica-de-rios-susmai-encit/
LOCATION:A distancia (transmisión en vivo por YouTube).
CATEGORIES:Eventos
ATTACH;FMTTYPE=image/jpeg:https://agua.org.mx/wp-content/uploads/2026/04/event-2.jpg
END:VEVENT
BEGIN:VEVENT
DTSTART;TZID=America/Mexico_City:20260423T110000
DTEND;TZID=America/Mexico_City:20260423T120000
DTSTAMP:20260423T070209
CREATED:20260413T235341Z
LAST-MODIFIED:20260422T202329Z
UID:234172-1776942000-1776945600@agua.org.mx
SUMMARY:Cosecha de agua de lluvia para Zonas Áridas (Isla Urbana)
DESCRIPTION:Isla Urbana te invita la presentación del libro “Cosecha de agua de lluvia para Zonas Áridas” \nBrad Lancaster llega a la UNAM para presentar la primera edición en español de su libro Cosecha de agua de lluvia para Zonas Áridas. Habrá panel con expertos\, venta del libro y firma de ejemplares por el autor. Un evento imperdible para quienes buscan aprender sobre soluciones sustentables al manejo del agua. \n\nFecha y Hora:\n\nJueves 23 de abril\n11:00 a 12:00 hr\n\nBiblioteca “Lilia Margarita Guzmán y García”\, Facultad de Arquitectura UNAM\, CU.\n\n\n¡Si no puedes asistir\, puedes seguir su transmisión en vivo desde Facebook Live y Youtube en las cuentas de Facultad de Arquitectura UNAM – Sitio oficial
URL:https://agua.org.mx/evento/cosecha-de-agua-de-lluvia-para-zonas-aridas-isla-urbana/
LOCATION:Biblioteca “Lilia Margarita Guzmán y García”\, Facultad de Arquitectura UNAM\, CU.
CATEGORIES:Eventos
ATTACH;FMTTYPE=image/jpeg:https://agua.org.mx/wp-content/uploads/2026/04/671322648_1419487353539714_3995957659571210275_n.jpg
END:VEVENT
END:VCALENDAR