BEGIN:VCALENDAR
VERSION:2.0
PRODID:-//Agua.org.mx - ECPv6.15.16//NONSGML v1.0//EN
CALSCALE:GREGORIAN
METHOD:PUBLISH
X-WR-CALNAME:Agua.org.mx
X-ORIGINAL-URL:https://agua.org.mx
X-WR-CALDESC:Eventos para Agua.org.mx
REFRESH-INTERVAL;VALUE=DURATION:PT1H
X-Robots-Tag:noindex
X-PUBLISHED-TTL:PT1H
BEGIN:VTIMEZONE
TZID:America/Mexico_City
BEGIN:STANDARD
TZOFFSETFROM:-0600
TZOFFSETTO:-0600
TZNAME:CST
DTSTART:20250101T000000
END:STANDARD
END:VTIMEZONE
BEGIN:VEVENT
DTSTART;TZID=America/Mexico_City:20260423T080000
DTEND;TZID=America/Mexico_City:20260424T170000
DTSTAMP:20260424T035237
CREATED:20260320T205833Z
LAST-MODIFIED:20260320T205833Z
UID:233407-1776931200-1777050000@agua.org.mx
SUMMARY:Encuentro Nacional por la Cultura del Agua 2026 (ENXCA) – Tlaxcala
DESCRIPTION:Tlaxcala será sede del Encuentro Nacional por la Cultura del Agua 2026 (ENXCA)\, un espacio que reunirá a especialistas\, instituciones y actores clave para fortalecer la cultura del agua en México. \nDurante el evento se llevarán a cabo conferencias\, paneles y espacios de diálogo\, enfocados en promover el uso responsable del agua\, el intercambio de experiencias y la construcción de estrategias para una gestión sostenible del recurso hídrico. \nEste encuentro busca impulsar acciones que fortalezcan la participación social y la cultura del agua a nivel nacional. \nFechas:  \n23 y 24 de abril de 2026 \nLugar: \nParque Ecológico Federico Silva\, San Hipólito Chimalpa\, Tlaxcala \nRegístrate aquí!
URL:https://agua.org.mx/evento/encuentro-nacional-por-la-cultura-del-agua-2026-enxca-tlaxcala/
LOCATION:Parque Ecológico Federico Silva\, San Hipólito Chimalpa\, Tlaxcala
ATTACH;FMTTYPE=image/jpeg:https://agua.org.mx/wp-content/uploads/2026/03/evento-1-.jpeg
END:VEVENT
END:VCALENDAR