BEGIN:VCALENDAR
VERSION:2.0
PRODID:-//Agua.org.mx - ECPv6.15.16//NONSGML v1.0//EN
CALSCALE:GREGORIAN
METHOD:PUBLISH
X-ORIGINAL-URL:https://agua.org.mx
X-WR-CALDESC:Eventos para Agua.org.mx
REFRESH-INTERVAL;VALUE=DURATION:PT1H
X-Robots-Tag:noindex
X-PUBLISHED-TTL:PT1H
BEGIN:VTIMEZONE
TZID:America/Mexico_City
BEGIN:STANDARD
TZOFFSETFROM:-0600
TZOFFSETTO:-0600
TZNAME:CST
DTSTART:20250101T000000
END:STANDARD
END:VTIMEZONE
BEGIN:VEVENT
DTSTART;TZID=America/Mexico_City:20260129T130000
DTEND;TZID=America/Mexico_City:20260129T130000
DTSTAMP:20260422T071357
CREATED:20260129T163944Z
LAST-MODIFIED:20260129T163944Z
UID:231153-1769691600-1769691600@agua.org.mx
SUMMARY:Seminarios ICML- Cultura Oceánica: visualizando el oceáno para la educación (ICMLS)
DESCRIPTION:En este nuevo ciclo del Seminarios ICML\, iniciara una sesión\, a cargo de la Dra. Elva Escobar\, para hablar sobre el proyecto PAPIME- DGAPA que se desarrolló durante dos años y se busca darle visibilidad a las ciencias del mar en la educación a nivel medio superior.\n\n\n\nVe a vistarlos al Auditorio “Dr. Agustín Ayala Castañares” en la sede de Ciudad Universitaria.\nTambién puedes seguir la transmisión en línea\, registrándote 
URL:https://agua.org.mx/evento/seminarios-icml-cultura-oceanica-visualizando-el-oceano-para-la-educacion-icmls/
LOCATION:“Auditorio Dr. Agustin Ayala” ICML- Ciudad Universitaria\, CDMX\, Auditorio "Dr. Agustín Ayala Castañares"\, CDMX\, CDMX\, Mexico
CATEGORIES:Eventos
ATTACH;FMTTYPE=image/jpeg:https://agua.org.mx/wp-content/uploads/2026/01/p.jpg
END:VEVENT
END:VCALENDAR