BEGIN:VCALENDAR
VERSION:2.0
PRODID:-//Agua.org.mx - ECPv6.15.16//NONSGML v1.0//EN
CALSCALE:GREGORIAN
METHOD:PUBLISH
X-WR-CALNAME:Agua.org.mx
X-ORIGINAL-URL:https://agua.org.mx
X-WR-CALDESC:Eventos para Agua.org.mx
REFRESH-INTERVAL;VALUE=DURATION:PT1H
X-Robots-Tag:noindex
X-PUBLISHED-TTL:PT1H
BEGIN:VTIMEZONE
TZID:America/Mexico_City
BEGIN:STANDARD
TZOFFSETFROM:-0600
TZOFFSETTO:-0600
TZNAME:CST
DTSTART:20250101T000000
END:STANDARD
END:VTIMEZONE
BEGIN:VEVENT
DTSTART;TZID=America/Mexico_City:20260129T160000
DTEND;TZID=America/Mexico_City:20260129T173000
DTSTAMP:20260422T084837
CREATED:20260121T043551Z
LAST-MODIFIED:20260121T043551Z
UID:230875-1769702400-1769707800@agua.org.mx
SUMMARY:Reforma a la Ley de Aguas Nacionales y sus implicaciones en cuencas compartidas (Foro Permanente de Aguas Binacionales)
DESCRIPTION:El Foro Permanente de Aguas Binacionales invita a su  Coffee Break sobre la reforma a la Ley de Aguas Nacionales y su impacto en cuencas compartidas. \nFecha y hora: \n\n29 de enero de 2026\n4 pm a 5:30 pm hora centro\n\nRegístrate aquí\, evento virtual \n 
URL:https://agua.org.mx/evento/reforma-a-la-ley-de-aguas-nacionales-y-sus-implicaciones-en-cuencas-compartidas-foro-permanente-de-aguas-binacionales/
ATTACH;FMTTYPE=image/jpeg:https://agua.org.mx/wp-content/uploads/2026/01/1768590907653.jpeg
ORGANIZER;CN="Foro Permanente de Aguas Binacionales":MAILTO:binationalwatersforum@gmail.com
END:VEVENT
END:VCALENDAR