BEGIN:VCALENDAR
VERSION:2.0
PRODID:-//Agua.org.mx - ECPv6.15.16//NONSGML v1.0//EN
CALSCALE:GREGORIAN
METHOD:PUBLISH
X-WR-CALNAME:Agua.org.mx
X-ORIGINAL-URL:https://agua.org.mx
X-WR-CALDESC:Eventos para Agua.org.mx
REFRESH-INTERVAL;VALUE=DURATION:PT1H
X-Robots-Tag:noindex
X-PUBLISHED-TTL:PT1H
BEGIN:VTIMEZONE
TZID:America/Mexico_City
BEGIN:STANDARD
TZOFFSETFROM:-0600
TZOFFSETTO:-0600
TZNAME:CST
DTSTART:20250101T000000
END:STANDARD
END:VTIMEZONE
BEGIN:VEVENT
DTSTART;TZID=America/Mexico_City:20260310T070000
DTEND;TZID=America/Mexico_City:20260310T080000
DTSTAMP:20260423T040339
CREATED:20260303T015936Z
LAST-MODIFIED:20260303T020958Z
UID:232593-1773126000-1773129600@agua.org.mx
SUMMARY:Webinar - Día Mundial del Agua 2026: Donde el agua fluye\, la igualdad crece - Mujeres moldeando el presente y futuro del agua (IWRA)
DESCRIPTION:La Asociación Internacional de Recursos Hídricos (IWRA por sus siglas en inglés)  invita al webinar Día Mundial del Agua 2026: Donde el agua fluye\, la igualdad crece – Mujeres moldeando el presente y el futuro del agua (World Water Day 2026: Where Water Flows\, Equality Grows – Women Shaping the Present and Future of Water). \nEn este evento se busca celebrar conjuntamente e Día Internacional de las Mujeres y el Día Mundial del Agua mediante la exploración de la manera en la que la inclusión fortalece los sistemas hídricos y porqué la resiliencia depende de quien está (y no está) en la mesa de negociación. \nFecha y hora: \n\n10 de marzo\n2 pm a 3 pm CET\, 7 am a 8 am hora Centro de México\n\nRegístrate aquí.
URL:https://agua.org.mx/evento/webinar-dia-mundial-del-agua-2026-donde-el-agua-fluye-la-igualdad-crece-mujeres-moldeando-el-presente-y-futuro-del-agua/
ATTACH;FMTTYPE=image/jpeg:https://agua.org.mx/wp-content/uploads/2026/03/1772446059171.jpeg
END:VEVENT
BEGIN:VEVENT
DTSTART;VALUE=DATE:20260319
DTEND;VALUE=DATE:20260320
DTSTAMP:20260423T040339
CREATED:20260226T042947Z
LAST-MODIFIED:20260226T042947Z
UID:232409-1773878400-1773964799@agua.org.mx
SUMMARY:4to Foro de Tecnologías del Agua y Saneamiento (Centinelas del Agua A.C)
DESCRIPTION:Centinelas del Agua A.C\, te invita a participar este 19 de marzo\, en el marco del Día Mundial del Agua\, en donde van a reunir a expertos e innovadores para transformar el futuro de nuestro recurso más vital. \n\nNo te quedes fuera de la conversación. ¡Reserva tu lugar y descubre las soluciones que están cambiando el mañana!\n\n\nFecha y Lugar: \n\n19 de Marzo 2026\nUniversidad La Salle Cancún\n\nRegistrate Aquí  \n\nImportante: El registro es obligatorio para el acceso al evento. ¡Asegura tu entrada ahora! 
URL:https://agua.org.mx/evento/4to-foro-de-tecnologias-del-agua-y-saneamiento-centinelas-del-agua-a-c/
LOCATION:Universidad La Salle Cancún\, Cancún\, Mexico
CATEGORIES:Eventos
ATTACH;FMTTYPE=image/jpeg:https://agua.org.mx/wp-content/uploads/2026/02/629552181_1341931557979188_8359604548018904925_n.jpg
END:VEVENT
BEGIN:VEVENT
DTSTART;TZID=America/Mexico_City:20260320T170000
DTEND;TZID=America/Mexico_City:20260320T183000
DTSTAMP:20260423T040339
CREATED:20260311T234034Z
LAST-MODIFIED:20260314T003421Z
UID:233024-1774026000-1774031400@agua.org.mx
SUMMARY:Presentación de libro "La información sobre el agua en México" (Ciencia y Tecnología del Gobierno de México)
DESCRIPTION:¿Dónde está la información sobre el agua en México?\, ¿quién la genera?\, ¿cómo lo hace?\, ¿dónde la divulga?\, ¿quién la necesita?\, ¿para qué está siendo utilizada? \n“La información sobre el agua en México“\, resultado de la investigación para la construcción del Sistema Unificado de Información sobre Agua y Cuencas en México (SIUCAM) presenta hallazgos para entender estas y otras preguntas en relación a la situación actual de la generación y publicación de datos sobre agua\, esencial para garantizar el derecho de acceso a la información y para la toma informada de decisiones públicas sobre este importante bien natural común. \nFecha y hora: \n\n Viernes 20 de marzo\n5:00 pm
URL:https://agua.org.mx/evento/por-el-dia-mundial-del-agua-ciencia-y-tecnologia-del-gobierno-de-mexico/
CATEGORIES:Eventos
ATTACH;FMTTYPE=image/jpeg:https://agua.org.mx/wp-content/uploads/2026/03/1772728868892.jpeg
END:VEVENT
BEGIN:VEVENT
DTSTART;TZID=America/Mexico_City:20260322T093000
DTEND;TZID=America/Mexico_City:20260322T143000
DTSTAMP:20260423T040339
CREATED:20260310T033125Z
LAST-MODIFIED:20260310T033125Z
UID:232911-1774171800-1774189800@agua.org.mx
SUMMARY:Picnic y liempieza en río Presidio (Conselva)
DESCRIPTION:Conselva organiza este evento el  22 de marzo\, en el marco del Día Mundial del Agua\, celebremos cuidando al río que nos da agua a Mazatlán. Te invitan a la quinta edición del Picnic en el Río Presidio\, una mañana para reconectar con la naturaleza\, sumar manos por nuestro río y compartir en comunidad.Locación: \n\n Balneario del Río Presidio\, en Villa Unión\n\nHorario: \n\n 9:30 a.m.\n\nHabrá transporte gratuito con cupo limitado (conforme vayan llegando)\, saliendo a las 9:00 a.m. del estacionamiento de Walmart y Sam’s Club La Marina\, con regreso a la 1:00 p.m.Después de la limpieza\, se compartiran alimentos y bebidas gracias al apoyo de Ricos Café y Tonicol\, y disfrutaremos de actividades especiales con la Sociedad Astronómica Mazatleca Bird Watching Mazatlán Interacción Luciérnaga Sirenas Negras\, Arte Sandú con Cecilia Sánchez Duarte\, Consejo Ecológico de Mazatlán CEMAZ A.C.\, Círculo de Dibujo y voluntariado que nos regalará poesía y música en un entorno natural.Trae ropa cómoda\, gorra\, termo\, guantes y muchas ganas de sumar. ¡Alimentos KAY proporcionará los costales!Este evento no sería posible sin el apoyo también del Gobierno Municipal de Mazatlán\, Jumapam\, Grupo Modelo\, Alimentos KAY\, BeGaia y Pueblo Bonito Golf & Spa ResortsPorque cuidar el agua no es solo una fecha… es una acción colectiva. \nMás infromación aquí. 
URL:https://agua.org.mx/evento/picnic-y-liempieza-en-rio-presidio-conselva/
LOCATION:Balneario del Río Presidio\, en Villa Unión\, mazatlán\, Mexico
CATEGORIES:Eventos
ATTACH;FMTTYPE=image/jpeg:https://agua.org.mx/wp-content/uploads/2026/03/646761382_1362567105895995_5930167630981610012_n.jpg
END:VEVENT
BEGIN:VEVENT
DTSTART;TZID=America/Mexico_City:20260324T090000
DTEND;TZID=America/Mexico_City:20260324T110000
DTSTAMP:20260423T040339
CREATED:20260310T023435Z
LAST-MODIFIED:20260320T161406Z
UID:232902-1774342800-1774350000@agua.org.mx
SUMMARY:Agua para la igualdad: las mujeres y las niñas al centro de las soluciones (Global Water Partnership Central America)
DESCRIPTION:Global Water Partnership Central America te invita a formar parte de su evento de dos día. \n¡Guarde la fecha! En el marco del Día Mundial del Agua estaremos celebrando nuestra anual Asamblea General de Miembros y Foro Regional – el tema del evento de dos días es “Agua para la igualdad: las mujeres y las niñas al centro de las soluciones”. \n\nFecha:\n\n24 y 25 de marzo \n\nHora:\n\n9:00 am (Honduras) / 10:00 am (Panamá) \n\nModalidad:\n\nVirtual
URL:https://agua.org.mx/evento/agua-para-la-igualdad-las-mujeres-y-las-ninas-al-centro-de-las-soluciones-global-water-partnership-central-america/
CATEGORIES:Eventos
ATTACH;FMTTYPE=image/jpeg:https://agua.org.mx/wp-content/uploads/2026/03/ss-3.jpg
ORGANIZER;CN="Global Water Partnership Central America":MAILTO:gwpcam@gwpcentroamerica.org
END:VEVENT
BEGIN:VEVENT
DTSTART;TZID=America/Mexico_City:20260324T100000
DTEND;TZID=America/Mexico_City:20260325T150000
DTSTAMP:20260423T040339
CREATED:20260216T231244Z
LAST-MODIFIED:20260321T011311Z
UID:231930-1774346400-1774450800@agua.org.mx
SUMMARY:Foro + Agua para BCS 2026: Agua\, género y comunidad (Universidad Autónoma de Baja California Sur)
DESCRIPTION:La Universidad Autónoma de Baja California Sur invita al Foro + Agua para BCS 2026 en su edición Agua\, género y comunidad. El tema de este año se propone como una respuesta contundente ante el panorama de crisis hídrica que padece esta región y la interconexión con las comunidades y el género. \nLa convocatoria para enviar ponencias se encuentra abierta. Más información aquí. \nFecha y hora: \n\n24-25 de marzo\n10 am a 3 pm CST (tiempo del Centro de México)\n\nSede: \n\nPoliforo Cultural Universitario UABCS\n\nTransmisión por Facebook 
URL:https://agua.org.mx/evento/foro-agua-para-bcs-2026-agua-genero-y-comunidad-universidad-autonoma-de-baja-california-sur/
LOCATION:Poliforo Cultural Universitario UABCS\, Universidad Autónoma de Baja California Sur\, La Paz\, Baja California Sur\, 23085\, Mexico
ATTACH;FMTTYPE=image/jpeg:https://agua.org.mx/wp-content/uploads/2026/02/635175612_1323930279772647_8299955697213579722_n.jpg
END:VEVENT
BEGIN:VEVENT
DTSTART;TZID=America/Mexico_City:20260324T120000
DTEND;TZID=America/Mexico_City:20260324T170000
DTSTAMP:20260423T040339
CREATED:20260311T233045Z
LAST-MODIFIED:20260311T233045Z
UID:233019-1774353600-1774371600@agua.org.mx
SUMMARY:Charla-Día Mundial del Agua ( Cavazzani )
DESCRIPTION:En el marco del Día Mundial del Agua\, te invita a una conversación virtual para analizar los alcances y desafíos de la reciente reforma a la Ley de Aguas Nacionales LAN el próximo martes 24 de marzo a las 12:00 pm. \nDurante esta sesión junto con nuestra fundadora Andrea Cavazzani Silva y nuestra socia Tamara Luengo Schreck\, revisaremos los principales cambios del nuevo marco regulatorio\, especialmente en el régimen de concesiones\, así como algunos de los retos para su implementación y sus implicaciones para la gestión y responsabilidad hídrica del sector productivo. \nConversarán sobre: \n\nContexto de la reforma\n Principales modificaciones al marco regulatorio\n Cambios en el régimen de concesiones\nRetos en su implementación\n Implicaciones en materia de responsabilidad hídrico\n\nFecha y Hora: \n\n24 de marzo\n12:00 pm\n\nMás información aquí:
URL:https://agua.org.mx/evento/charla-dia-mundial-del-agua-cavazzani/
CATEGORIES:Eventos
ATTACH;FMTTYPE=image/jpeg:https://agua.org.mx/wp-content/uploads/2026/03/1773167005771.jpeg
END:VEVENT
END:VCALENDAR