BEGIN:VCALENDAR
VERSION:2.0
PRODID:-//Agua.org.mx - ECPv6.15.16//NONSGML v1.0//EN
CALSCALE:GREGORIAN
METHOD:PUBLISH
X-ORIGINAL-URL:https://agua.org.mx
X-WR-CALDESC:Eventos para Agua.org.mx
REFRESH-INTERVAL;VALUE=DURATION:PT1H
X-Robots-Tag:noindex
X-PUBLISHED-TTL:PT1H
BEGIN:VTIMEZONE
TZID:America/Mexico_City
BEGIN:STANDARD
TZOFFSETFROM:-0600
TZOFFSETTO:-0600
TZNAME:CST
DTSTART:20250101T000000
END:STANDARD
END:VTIMEZONE
BEGIN:VEVENT
DTSTART;TZID=America/Mexico_City:20260128T190000
DTEND;TZID=America/Mexico_City:20260128T223000
DTSTAMP:20260422T093146
CREATED:20260125T170741Z
LAST-MODIFIED:20260125T170741Z
UID:231101-1769626800-1769639400@agua.org.mx
SUMMARY:La batalla de las azules (Festival de la Ballena Azul Loreto 2026 / XI Ayuntamiento de Loreto\, Conserva Loreto y Loreto SoundLab)
DESCRIPTION:El Festival de la Ballena Azul Loreto 2026 presenta el estreno en México del documental La batalla de las azules\, una producción que explora los impactos del tráfico marítimo y del ruido submarino en la ballena azul\, especie que depende del sonido para comunicarse\, orientarse y alimentarse. Grabado en el Canal de Santa Bárbara\, California\, el filme establece un paralelismo con la Bahía de Loreto para reflexionar sobre cómo el incremento de grandes embarcaciones transforma el paisaje acústico del océano y afecta los hábitats de estos cetáceos\, en una función especial de cine al aire libre y educación ambiental. \n\n\nFecha: Miércoles 28 de enero de 2026 \n\n\nHora: 7:00 p.m. \n\n\nModalidad: Presencial. \nOrganizador: Festival de la Ballena Azul Loreto 2026 / XI Ayuntamiento de Loreto\, Conserva Loreto y Loreto SoundLabEvento completo \nLugar: Plaza Salvatierra\, Loreto\, Baja California SurCosto: Función gratuita
URL:https://agua.org.mx/evento/la-batalla-de-las-azules-festival-de-la-ballena-azul-loreto-2026-xi-ayuntamiento-de-loreto-conserva-loreto-y-loreto-soundlab/
LOCATION:plaza salvatierra\, loretato\, baja california sur
CATEGORIES:Eventos
ATTACH;FMTTYPE=image/png:https://agua.org.mx/wp-content/uploads/2026/01/ballena.png
END:VEVENT
END:VCALENDAR