BEGIN:VCALENDAR
VERSION:2.0
PRODID:-//Agua.org.mx - ECPv6.15.16//NONSGML v1.0//EN
CALSCALE:GREGORIAN
METHOD:PUBLISH
X-ORIGINAL-URL:https://agua.org.mx
X-WR-CALDESC:Eventos para Agua.org.mx
REFRESH-INTERVAL;VALUE=DURATION:PT1H
X-Robots-Tag:noindex
X-PUBLISHED-TTL:PT1H
BEGIN:VTIMEZONE
TZID:America/Mexico_City
BEGIN:STANDARD
TZOFFSETFROM:-0600
TZOFFSETTO:-0600
TZNAME:CST
DTSTART:20250101T000000
END:STANDARD
END:VTIMEZONE
BEGIN:VEVENT
DTSTART;TZID=America/Mexico_City:20260427T123000
DTEND;TZID=America/Mexico_City:20260427T170000
DTSTAMP:20260419T214023
CREATED:20260417T222257Z
LAST-MODIFIED:20260417T222257Z
UID:234449-1777293000-1777309200@agua.org.mx
SUMMARY:Interacciones hidrosociales en Michoacán: la cuenca del Río Duero (UNAM\, UAER)
DESCRIPTION:La Unidad Académica de Estudios Regionales de la UNAM te invita a la presentación del libro “Interacciones hidrosociales en Michoacán: la cuenca del Río Duero”\, donde se abordarán problemáticas derivadas de las interacciones hidrosociales y su impacto en el ciclo del agua. \n• Fecha: 27 de abril de 2026• Hora: 12:30 hrs \nModalidad: Presencial. \nLugar: Sala Negritos\, 2° piso\, Edificio Central\, UCEMICH \nEvento en Facebook
URL:https://agua.org.mx/evento/interacciones-hidrosociales-en-michoacan-la-cuenca-del-rio-duero-unam-uaer/
LOCATION:Sala Negritos\, 2° piso\, Edificio Central\, UCEMICH
CATEGORIES:Eventos
ATTACH;FMTTYPE=image/jpeg:https://agua.org.mx/wp-content/uploads/2026/04/EVENTO-1.jpg
END:VEVENT
END:VCALENDAR